BEGIN:VCALENDAR
VERSION:2.0
PRODID:-//Kensington-Bellwoods Community Legal Services - ECPv6.15.16//NONSGML v1.0//EN
CALSCALE:GREGORIAN
METHOD:PUBLISH
X-WR-CALNAME:Kensington-Bellwoods Community Legal Services
X-ORIGINAL-URL:https://www.kbcls.org
X-WR-CALDESC:Events for Kensington-Bellwoods Community Legal Services
REFRESH-INTERVAL;VALUE=DURATION:PT1H
X-Robots-Tag:noindex
X-PUBLISHED-TTL:PT1H
BEGIN:VTIMEZONE
TZID:America/Toronto
BEGIN:DAYLIGHT
TZOFFSETFROM:-0500
TZOFFSETTO:-0400
TZNAME:EDT
DTSTART:20250309T070000
END:DAYLIGHT
BEGIN:STANDARD
TZOFFSETFROM:-0400
TZOFFSETTO:-0500
TZNAME:EST
DTSTART:20251102T060000
END:STANDARD
BEGIN:DAYLIGHT
TZOFFSETFROM:-0500
TZOFFSETTO:-0400
TZNAME:EDT
DTSTART:20260308T070000
END:DAYLIGHT
BEGIN:STANDARD
TZOFFSETFROM:-0400
TZOFFSETTO:-0500
TZNAME:EST
DTSTART:20261101T060000
END:STANDARD
BEGIN:DAYLIGHT
TZOFFSETFROM:-0500
TZOFFSETTO:-0400
TZNAME:EDT
DTSTART:20270314T070000
END:DAYLIGHT
BEGIN:STANDARD
TZOFFSETFROM:-0400
TZOFFSETTO:-0500
TZNAME:EST
DTSTART:20271107T060000
END:STANDARD
END:VTIMEZONE
BEGIN:VEVENT
DTSTART;VALUE=DATE:20260428
DTEND;VALUE=DATE:20260429
DTSTAMP:20260420T202737
CREATED:20260401T151842Z
LAST-MODIFIED:20260401T151842Z
UID:2575-1777334400-1777420799@www.kbcls.org
SUMMARY:April 28th\, National Day of Mourning
DESCRIPTION:April 28th\, National Day of Mourning recognizes workers injured or killed on the job. The Canadian Labour Congress first declared the Day in 1984. More than 100 countries now observe the Day. https://www.whsc.on.ca/Events/Day-of-Mourning
URL:https://www.kbcls.org/event/april-28th-national-day-of-mourning-2/
END:VEVENT
END:VCALENDAR